BEGIN:VCALENDAR
VERSION:2.0
PRODID:-//Wildnis für Kinder - ECPv6.15.20//NONSGML v1.0//EN
CALSCALE:GREGORIAN
METHOD:PUBLISH
X-ORIGINAL-URL:https://www.wildnis-fuer-kinder.de
X-WR-CALDESC:Veranstaltungen für Wildnis für Kinder
REFRESH-INTERVAL;VALUE=DURATION:PT1H
X-Robots-Tag:noindex
X-PUBLISHED-TTL:PT1H
BEGIN:VTIMEZONE
TZID:Europe/Berlin
BEGIN:DAYLIGHT
TZOFFSETFROM:+0100
TZOFFSETTO:+0200
TZNAME:CEST
DTSTART:20250330T010000
END:DAYLIGHT
BEGIN:STANDARD
TZOFFSETFROM:+0200
TZOFFSETTO:+0100
TZNAME:CET
DTSTART:20251026T010000
END:STANDARD
BEGIN:DAYLIGHT
TZOFFSETFROM:+0100
TZOFFSETTO:+0200
TZNAME:CEST
DTSTART:20260329T010000
END:DAYLIGHT
BEGIN:STANDARD
TZOFFSETFROM:+0200
TZOFFSETTO:+0100
TZNAME:CET
DTSTART:20261025T010000
END:STANDARD
BEGIN:DAYLIGHT
TZOFFSETFROM:+0100
TZOFFSETTO:+0200
TZNAME:CEST
DTSTART:20270328T010000
END:DAYLIGHT
BEGIN:STANDARD
TZOFFSETFROM:+0200
TZOFFSETTO:+0100
TZNAME:CET
DTSTART:20271031T010000
END:STANDARD
END:VTIMEZONE
BEGIN:VEVENT
DTSTART;TZID=Europe/Berlin:20260323T153000
DTEND;TZID=Europe/Berlin:20260323T173000
DTSTAMP:20260422T114815
CREATED:20251120T094943Z
LAST-MODIFIED:20260322T110243Z
UID:3482-1774279800-1774287000@www.wildnis-fuer-kinder.de
SUMMARY:!! Fällt leider aus!! Offener Wildnistreff Westenfeld
DESCRIPTION:Achtung! Dieser Treff fällt leider aus! \nOrt: „Wildnis für Kinder“ Westenfeld\, Parkplatz Sportplatz „Auf dem Esch“\, Bochum-Westenfeld\nZeit: 23.03.2026\, 15:30–17:30 Uhr\n \n\nJeden Montag-Nachmittag bis zum Sommer ist ein*e Wildnispädagog*in auf eurer Wildnisfläche in Bochum-Westenfeld. Wenn du in der Zeit zwischen 15.30 und 17.30 Uhr vorbeischaust: wir freuen uns auf dich und haben bestimmt eine Idee\, was du für dich oder mit anderen erkunden könntest. \nDu musst übrigens nicht pünktlich um 15.30 Uhr da sein: Komm\, wann Du möchtest. \nKostenfrei. Keine Anmeldung. \nEltern sind herzlich willkommen\, wenn sie sich über das Projekt „Wildnis für Kinder“ informieren möchten oder Ideen mit einbringen wollen. \n  \nBei den offenen Wildnistreffs liegt die Aufsichtspflicht weiterhin bei den Eltern. Bei Sturm\, Starkregen etc. findet der Treff nicht statt. \n  \n  \nDas bundesweite Pilotprojekt „Wildnis für Kinder“ wird gefördert durch den Bochum Fonds. \n   \nVielen Dank an den Bochum Fonds\, an die Stadt Bochum und an die Stadt Herne! \n 
URL:https://www.wildnis-fuer-kinder.de/event/offener-wildnistreff-westenfeld-23-maerz/
LOCATION:Wildnis für Kinder Westenfeld\, "Wildnis für Kinder" Westenfeld\, Wattenscheid-Höntrop\, Biologische Station Östliches Ruhrgebiet\, Bochum\, Germany
CATEGORIES:Offener Wildnistreff
ORGANIZER;CN="Biologische Station %C3%96stliches Ruhrgebiet":MAILTO:info@biostation-ruhr-ost.de
END:VEVENT
END:VCALENDAR