BEGIN:VCALENDAR
VERSION:2.0
PRODID:-//Wildnis für Kinder - ECPv6.15.20//NONSGML v1.0//EN
CALSCALE:GREGORIAN
METHOD:PUBLISH
X-WR-CALNAME:Wildnis für Kinder
X-ORIGINAL-URL:https://www.wildnis-fuer-kinder.de
X-WR-CALDESC:Veranstaltungen für Wildnis für Kinder
REFRESH-INTERVAL;VALUE=DURATION:PT1H
X-Robots-Tag:noindex
X-PUBLISHED-TTL:PT1H
BEGIN:VTIMEZONE
TZID:Europe/Berlin
BEGIN:DAYLIGHT
TZOFFSETFROM:+0100
TZOFFSETTO:+0200
TZNAME:CEST
DTSTART:20250330T010000
END:DAYLIGHT
BEGIN:STANDARD
TZOFFSETFROM:+0200
TZOFFSETTO:+0100
TZNAME:CET
DTSTART:20251026T010000
END:STANDARD
BEGIN:DAYLIGHT
TZOFFSETFROM:+0100
TZOFFSETTO:+0200
TZNAME:CEST
DTSTART:20260329T010000
END:DAYLIGHT
BEGIN:STANDARD
TZOFFSETFROM:+0200
TZOFFSETTO:+0100
TZNAME:CET
DTSTART:20261025T010000
END:STANDARD
BEGIN:DAYLIGHT
TZOFFSETFROM:+0100
TZOFFSETTO:+0200
TZNAME:CEST
DTSTART:20270328T010000
END:DAYLIGHT
BEGIN:STANDARD
TZOFFSETFROM:+0200
TZOFFSETTO:+0100
TZNAME:CET
DTSTART:20271031T010000
END:STANDARD
END:VTIMEZONE
BEGIN:VEVENT
DTSTART;TZID=Europe/Berlin:20260330T100000
DTEND;TZID=Europe/Berlin:20260403T140000
DTSTAMP:20260422T100120
CREATED:20260223T124746Z
LAST-MODIFIED:20260316T111652Z
UID:3939-1774864800-1775224800@www.wildnis-fuer-kinder.de
SUMMARY:!!AUSGEBUCHT!! Osterferien-Wildniswoche Hustadt
DESCRIPTION:Ort: „Wildnis für Kinder“ Hustadt\, Grünanlage hinter „Am Hustadtring 7\, 44801 Bochum“\nZeit: 30.03.2026 – 03.04.2026\, 10:00 – 14:00 Uhr \nDie Natur wartet – und die Osterferien sind die perfekte Zeit\, sie zu entdecken! In unserer Wildnis-Ferienwoche verbringen Kinder zwischen 5 und 12 Jahren fünf aufregende Tage draußen in der Natur. Toben\, matschen\, bauen\, beobachten – jeden Tag gibt es Neues zu erleben und zu entdecken. \nKostenfreie Anmeldung:  einfach das Anmeldeformular ausfüllen und per E-Mail an info@biostation-ruhr-ost.de \n⚠️ Die Plätze sind begrenzt – bitte meldet euch frühzeitig an! \nBitte mitbringen: \n\nWetterfeste Kleidung und festes Schuhwerk (wir sind bei jedem Wetter draußen!)\nEin kleines Picknick für die Pause\nEine gefüllte Trinkflasche\n\n  \n  \nWildnis für Kinder wird gefördert durch \n   \nVielen Dank!
URL:https://www.wildnis-fuer-kinder.de/event/osterferien-wildniswoche-hustadt/
LOCATION:Wildnis für Kinder Hustadt\, Am Hustadtring 7\, Bochum\, 44801
CATEGORIES:Ferienwoche
END:VEVENT
BEGIN:VEVENT
DTSTART;TZID=Europe/Berlin:20260330T100000
DTEND;TZID=Europe/Berlin:20260403T140000
DTSTAMP:20260422T100120
CREATED:20260225T081927Z
LAST-MODIFIED:20260319T083355Z
UID:3974-1774864800-1775224800@www.wildnis-fuer-kinder.de
SUMMARY:!!AUSGEBUCHT!!Osterferien-Wildniswoche Bochum-Mitte
DESCRIPTION:Ort: „Wildnis für Kinder“ Bochum Mitte\, Parkanlage Ecke Herner Straße / Vierhausstraße\, 44807 Bochum\nZeit: 30.03.2026 – 03.04.2026\, 10:00 – 14:00 Uhr \nDie Natur wartet – und die Osterferien sind die perfekte Zeit\, sie zu entdecken! In unserer Wildnis-Ferienwoche verbringen Kinder zwischen 5 und 12 Jahren fünf aufregende Tage draußen in der Natur. Toben\, matschen\, bauen\, beobachten – jeden Tag gibt es Neues zu erleben und zu entdecken. \nKostenfreie Anmeldung: Einfach das Anmeldeformular ausfüllen und per E-Mail an info@biostation-ruhr-ost.de \n⚠️ Die Plätze sind begrenzt – bitte meldet euch frühzeitig an! \nBitte mitbringen: \n\nWetterfeste Kleidung und festes Schuhwerk (wir sind bei jedem Wetter draußen!)\nEin kleines Picknick für die Pause\nEine gefüllte Trinkflasche\n\n  \nEine Kooperation mit \n \n  \nWildnis für Kinder wird gefördert durch \n \nVielen Dank!
URL:https://www.wildnis-fuer-kinder.de/event/osterferien-wildniswoche-bochum-mitte/
LOCATION:Wildnis für Kinder Bochum Mitte\, "Wildnis für Kinder-Bochum Mitte"\, Bochum\, 44807
CATEGORIES:Ferienwoche
END:VEVENT
END:VCALENDAR