BEGIN:VCALENDAR
VERSION:2.0
PRODID:-//Wildnis für Kinder - ECPv6.15.20//NONSGML v1.0//EN
CALSCALE:GREGORIAN
METHOD:PUBLISH
X-ORIGINAL-URL:https://www.wildnis-fuer-kinder.de
X-WR-CALDESC:Veranstaltungen für Wildnis für Kinder
REFRESH-INTERVAL;VALUE=DURATION:PT1H
X-Robots-Tag:noindex
X-PUBLISHED-TTL:PT1H
BEGIN:VTIMEZONE
TZID:Europe/Berlin
BEGIN:DAYLIGHT
TZOFFSETFROM:+0100
TZOFFSETTO:+0200
TZNAME:CEST
DTSTART:20250330T010000
END:DAYLIGHT
BEGIN:STANDARD
TZOFFSETFROM:+0200
TZOFFSETTO:+0100
TZNAME:CET
DTSTART:20251026T010000
END:STANDARD
BEGIN:DAYLIGHT
TZOFFSETFROM:+0100
TZOFFSETTO:+0200
TZNAME:CEST
DTSTART:20260329T010000
END:DAYLIGHT
BEGIN:STANDARD
TZOFFSETFROM:+0200
TZOFFSETTO:+0100
TZNAME:CET
DTSTART:20261025T010000
END:STANDARD
BEGIN:DAYLIGHT
TZOFFSETFROM:+0100
TZOFFSETTO:+0200
TZNAME:CEST
DTSTART:20270328T010000
END:DAYLIGHT
BEGIN:STANDARD
TZOFFSETFROM:+0200
TZOFFSETTO:+0100
TZNAME:CET
DTSTART:20271031T010000
END:STANDARD
END:VTIMEZONE
BEGIN:VEVENT
DTSTART;TZID=Europe/Berlin:20260408T150000
DTEND;TZID=Europe/Berlin:20260408T180000
DTSTAMP:20260422T100241
CREATED:20251201T101918Z
LAST-MODIFIED:20260309T093927Z
UID:3665-1775660400-1775671200@www.wildnis-fuer-kinder.de
SUMMARY:Familien-Osterspaß in Langendreer
DESCRIPTION:Ort: „Wildnis für Kinder“ Langendreer\, Ovelackerstr. / Ecke Hasselbrink\, 44892 Bochum\nZeit: Mittwoch\, 8. April\, von 15–18 Uhr\n \nKomm vorbei mit mind. einer erwachsenen Begleitung – ob mit Eltern\, Großeltern oder anderer Vertrauensperson. Alle sind willkommen. Und freut euch auf einen lustigen Osterspaß mit viel Spiel und Bewegung!\nBitte bringt wetterfeste\, warme Kleidung und Essen/Trinken für ein Picknick mit.\nInbesondere für Familien mit Kindern zwischen ca. 4–12 Jahren. \nKostenfrei. Ohne Anmeldung. \n  \nDie Kinder-Eltern-Wildnis wird großzügig gefördert durch den LWL-Naturfonds und die Dr. Gustav Bauckloh Stiftung; ergänzend wird sie durch die Herner Sparkasse mit ihrem Sponsoring unterstützt. \n    \nVielen Dank an den LWL-Naturfonds\, an die Stadt Bochum\, die Stadt Herne und die Herner Sparkasse für die großzügige Untersützung! \n  \n 
URL:https://www.wildnis-fuer-kinder.de/event/familien-osterspass-in-langendreer/
LOCATION:Wildnis für Kinder Langendreer\, Ovelackerstr. / Ecke Hasselbrink\, Bochum\, 44892
ORGANIZER;CN="Biologische Station %C3%96stliches Ruhrgebiet":MAILTO:info@biostation-ruhr-ost.de
END:VEVENT
END:VCALENDAR