BEGIN:VCALENDAR
VERSION:2.0
PRODID:-//Wildnis für Kinder - ECPv6.15.20//NONSGML v1.0//EN
CALSCALE:GREGORIAN
METHOD:PUBLISH
X-WR-CALNAME:Wildnis für Kinder
X-ORIGINAL-URL:https://www.wildnis-fuer-kinder.de
X-WR-CALDESC:Veranstaltungen für Wildnis für Kinder
REFRESH-INTERVAL;VALUE=DURATION:PT1H
X-Robots-Tag:noindex
X-PUBLISHED-TTL:PT1H
BEGIN:VTIMEZONE
TZID:Europe/Berlin
BEGIN:DAYLIGHT
TZOFFSETFROM:+0100
TZOFFSETTO:+0200
TZNAME:CEST
DTSTART:20250330T010000
END:DAYLIGHT
BEGIN:STANDARD
TZOFFSETFROM:+0200
TZOFFSETTO:+0100
TZNAME:CET
DTSTART:20251026T010000
END:STANDARD
BEGIN:DAYLIGHT
TZOFFSETFROM:+0100
TZOFFSETTO:+0200
TZNAME:CEST
DTSTART:20260329T010000
END:DAYLIGHT
BEGIN:STANDARD
TZOFFSETFROM:+0200
TZOFFSETTO:+0100
TZNAME:CET
DTSTART:20261025T010000
END:STANDARD
BEGIN:DAYLIGHT
TZOFFSETFROM:+0100
TZOFFSETTO:+0200
TZNAME:CEST
DTSTART:20270328T010000
END:DAYLIGHT
BEGIN:STANDARD
TZOFFSETFROM:+0200
TZOFFSETTO:+0100
TZNAME:CET
DTSTART:20271031T010000
END:STANDARD
END:VTIMEZONE
BEGIN:VEVENT
DTSTART;TZID=Europe/Berlin:20260412T110000
DTEND;TZID=Europe/Berlin:20260412T130000
DTSTAMP:20260422T100127
CREATED:20250722T094710Z
LAST-MODIFIED:20260212T082834Z
UID:2681-1775991600-1775998800@www.wildnis-fuer-kinder.de
SUMMARY:Wilde Familie in Herne-Holsterhausen / Dorstener Straße
DESCRIPTION:Ort: „Wildnis für Kinder Herne Mitte“\, Dorstener Straße\, 44625 Herne\, Zugang Hinterhof Nr. 139\nZeit: Sonntag\, 12. April\, von 11–13 Uhr (Achtung! Wegen Ostersonntag ist im April der Treff am zweiten Sonntag im Monat) \nKomm vorbei mit mind. einer erwachsenen Begleitung – ob mit Eltern\, Großeltern oder anderer Vertrauensperson. Alle sind willkommen. Euch erwartet echte SpielZeit in der Natur: Buden mit Stöcken bauen\, Tiere beobachten\, Naturkunstwerke gestalten\, balancieren\, toben\, rasten oder einfach nur schauen\, was es draußen zu entdecken gibt. Eine*r unsere*r Naturpädagog*innen begleitet euch mit kreativen Spielideen. \nBringt euch gerne ein kleines Picknick zur Stärkung mit. Und denkt an wetterfeste und robuste Kleidung und Schuhe – wir sind draußen! \nInsbesondere für Familien mit Kindern zwischen 4-12 Jahren. Jüngere Geschwister sind natürlich auch willkommen. \nKostenfrei. Ohne Anmeldung. \n  \nDie Kinder-Eltern-Wildnis wird großzügig gefördert durch den LWL-Naturfonds und die Dr. Gustav Bauckloh Stiftung; ergänzend wird sie durch die Herner Sparkasse mit ihrem Sponsoring unterstützt. \n    \nVielen Dank an den LWL-Naturfonds\, an die Stadt Bochum\, die Stadt Herne und die Herner Sparkasse für die großzügige Untersützung! \n  \n  \n  \n  \n 
URL:https://www.wildnis-fuer-kinder.de/event/wilde-familie-in-herne-mitte-8/
LOCATION:Wildnis für Kinder Dorstener Straße\, Dorstener Straße 139\, Hinterhof\, Herne\, 44625
END:VEVENT
BEGIN:VEVENT
DTSTART;TZID=Europe/Berlin:20260412T110000
DTEND;TZID=Europe/Berlin:20260412T130000
DTSTAMP:20260422T100127
CREATED:20250722T101423Z
LAST-MODIFIED:20260212T082843Z
UID:2710-1775991600-1775998800@www.wildnis-fuer-kinder.de
SUMMARY:Wilde Familie in Bochum-Mitte
DESCRIPTION:Ort: „Wildnis für Kinder Bochum Mitte“\, Parkanlage Ecke Herner Straße / Vierhausstraße\, 44807 Bochum\nZeit: Sonntag\, 12. April\, von 11–13 Uhr (Achtung! Wegen Ostersonntag ist im April der Treff am zweiten Sonntag im Monat)\n \nKomm vorbei mit mind. einer erwachsenen Begleitung – ob mit Eltern\, Großeltern oder anderer Vertrauensperson. Alle sind willkommen. Euch erwartet echte SpielZeit in der Natur: Buden mit Stöcken bauen\, Tiere beobachten\, Naturkunstwerke gestalten\, balancieren\, toben\, rasten oder einfach nur schauen\, was es draußen zu entdecken gibt. Eine*r unsere*r Naturpädagog*innen begleitet euch mit kreativen Spielideen. \nBringt euch gerne ein kleines Picknick zur Stärkung mit. Und denkt an wetterfeste und robuste Kleidung und Schuhe – wir sind draußen! \nInsbesondere für Familien mit Kindern zwischen 4-12 Jahren. Jüngere Geschwister sind natürlich auch willkommen. \nKostenfrei. Ohne Anmeldung. \n  \nDie Kinder-Eltern-Wildnis wird großzügig gefördert durch den LWL-Naturfonds und die Dr. Gustav Bauckloh Stiftung; ergänzend wird sie durch die Herner Sparkasse mit ihrem Sponsoring unterstützt. \n    \nVielen Dank an den LWL-Naturfonds\, an die Stadt Bochum\, die Stadt Herne und die Herner Sparkasse für die großzügige Untersützung! \n  \n  \n  \n 
URL:https://www.wildnis-fuer-kinder.de/event/wilde-familie-in-bochum-mitte-8/
LOCATION:Wildnis für Kinder Bochum Mitte\, "Wildnis für Kinder-Bochum Mitte"\, Bochum\, 44807
END:VEVENT
END:VCALENDAR