BEGIN:VCALENDAR
VERSION:2.0
PRODID:-//Wildnis für Kinder - ECPv6.15.20//NONSGML v1.0//EN
CALSCALE:GREGORIAN
METHOD:PUBLISH
X-WR-CALNAME:Wildnis für Kinder
X-ORIGINAL-URL:https://www.wildnis-fuer-kinder.de
X-WR-CALDESC:Veranstaltungen für Wildnis für Kinder
REFRESH-INTERVAL;VALUE=DURATION:PT1H
X-Robots-Tag:noindex
X-PUBLISHED-TTL:PT1H
BEGIN:VTIMEZONE
TZID:Europe/Berlin
BEGIN:DAYLIGHT
TZOFFSETFROM:+0100
TZOFFSETTO:+0200
TZNAME:CEST
DTSTART:20250330T010000
END:DAYLIGHT
BEGIN:STANDARD
TZOFFSETFROM:+0200
TZOFFSETTO:+0100
TZNAME:CET
DTSTART:20251026T010000
END:STANDARD
BEGIN:DAYLIGHT
TZOFFSETFROM:+0100
TZOFFSETTO:+0200
TZNAME:CEST
DTSTART:20260329T010000
END:DAYLIGHT
BEGIN:STANDARD
TZOFFSETFROM:+0200
TZOFFSETTO:+0100
TZNAME:CET
DTSTART:20261025T010000
END:STANDARD
BEGIN:DAYLIGHT
TZOFFSETFROM:+0100
TZOFFSETTO:+0200
TZNAME:CEST
DTSTART:20270328T010000
END:DAYLIGHT
BEGIN:STANDARD
TZOFFSETFROM:+0200
TZOFFSETTO:+0100
TZNAME:CET
DTSTART:20271031T010000
END:STANDARD
END:VTIMEZONE
BEGIN:VEVENT
DTSTART;TZID=Europe/Berlin:20260416T150000
DTEND;TZID=Europe/Berlin:20260416T170000
DTSTAMP:20260422T114356
CREATED:20251113T123046Z
LAST-MODIFIED:20260223T123141Z
UID:3356-1776351600-1776358800@www.wildnis-fuer-kinder.de
SUMMARY:Offener Wildnistreff Hustadt
DESCRIPTION:Ort: „Wildnis für Kinder“ Hustadt\, Grünanlage auf Höhe „Am Hustadtring 7\, 44801 Bochum“\nZeit: 16.04.2026\, 15–17 Uhr\n \n\nJeden Mittwochnachmittag bis zum Sommer ist ein*e Wildnispädagog*in auf eurer Wildnisfläche in Bochum-Hustadt. Wenn du in der Zeit zwischen 15 und 17 Uhr vorbeischaust: wir freuen uns auf dich und haben bestimmt eine Idee\, was du für dich oder mit anderen erkunden könntest. \nDu musst übrigens nicht pünktlich um 15 Uhr da sein: Komm\, wann Du möchtest. \nKostenfrei. Keine Anmeldung. \nEltern sind herzlich willkommen\, wenn sie sich über das Projekt „Wildnis für Kinder“ informieren möchten oder Ideen mit einbringen wollen. \n  \nBei den offenen Wildnistreffs liegt die Aufsichtspflicht weiterhin bei den Eltern. \n  \n  \nDas bundesweite Pilotprojekt „Wildnis für Kinder“ wird gefördert durch den Bochum Fonds. \n   \nVielen Dank an den Bochum Fonds\, an die Stadt Bochum und an die Stadt Herne! \n 
URL:https://www.wildnis-fuer-kinder.de/event/offener-wildnistreff-hustadt-16-april/
LOCATION:Wildnis für Kinder Hustadt\, Am Hustadtring 7\, Bochum\, 44801
CATEGORIES:Offener Wildnistreff
ORGANIZER;CN="Biologische Station %C3%96stliches Ruhrgebiet":MAILTO:info@biostation-ruhr-ost.de
END:VEVENT
BEGIN:VEVENT
DTSTART;TZID=Europe/Berlin:20260416T153000
DTEND;TZID=Europe/Berlin:20260416T173000
DTSTAMP:20260422T114356
CREATED:20260223T113104Z
LAST-MODIFIED:20260223T114958Z
UID:3773-1776353400-1776360600@www.wildnis-fuer-kinder.de
SUMMARY:Offener Wildnistreff Hiltrop
DESCRIPTION:Ort: „Wildnis für Kinder Hiltrop“\, Hiltroper Landwehr\, zwischen Haus Nr. 19 und 21\, 44805 Bochum\nZeit: 16.04.2026\, 15:30–17:30 Uhr\n \n\nJeden Donnerstagnachmittag bis zum Sommer ist ein*e Wildnispädagog*in auf eurer Wildnisfläche in Bochum-Hiltrop. Wenn du in der Zeit zwischen 15:30 und 17:30 Uhr vorbeischaust: wir freuen uns auf dich und haben bestimmt eine Idee\, was du für dich oder mit anderen erkunden könntest. \nDu musst übrigens nicht pünktlich um 15:30 Uhr da sein: Komm\, wann Du möchtest. \nKostenfrei. Keine Anmeldung. \nEltern sind herzlich willkommen\, wenn sie sich über das Projekt „Wildnis für Kinder“ informieren möchten oder Ideen mit einbringen wollen. \n  \nBei den offenen Wildnistreffs liegt die Aufsichtspflicht weiterhin bei den Eltern. Bei Sturm\, Starkregen etc. findet der Treff nicht statt. \n  \n  \nDas bundesweite Pilotprojekt „Wildnis für Kinder“ wird gefördert durch den Bochum Fonds. \n   \nVielen Dank an den Bochum Fonds\, an die Stadt Bochum und an die Stadt Herne! \n 
URL:https://www.wildnis-fuer-kinder.de/event/offener-wildnistreff-hiltrop-4/
LOCATION:Wildnis für Kinder Hiltrop\, Hiltroper Landwehr 19\, Bochum\, 44805
CATEGORIES:Offener Wildnistreff
ORGANIZER;CN="Biologische Station %C3%96stliches Ruhrgebiet":MAILTO:info@biostation-ruhr-ost.de
END:VEVENT
END:VCALENDAR