BEGIN:VCALENDAR
VERSION:2.0
PRODID:-//Wildnis für Kinder - ECPv6.15.20//NONSGML v1.0//EN
CALSCALE:GREGORIAN
METHOD:PUBLISH
X-ORIGINAL-URL:https://www.wildnis-fuer-kinder.de
X-WR-CALDESC:Veranstaltungen für Wildnis für Kinder
REFRESH-INTERVAL;VALUE=DURATION:PT1H
X-Robots-Tag:noindex
X-PUBLISHED-TTL:PT1H
BEGIN:VTIMEZONE
TZID:Europe/Berlin
BEGIN:DAYLIGHT
TZOFFSETFROM:+0100
TZOFFSETTO:+0200
TZNAME:CEST
DTSTART:20250330T010000
END:DAYLIGHT
BEGIN:STANDARD
TZOFFSETFROM:+0200
TZOFFSETTO:+0100
TZNAME:CET
DTSTART:20251026T010000
END:STANDARD
BEGIN:DAYLIGHT
TZOFFSETFROM:+0100
TZOFFSETTO:+0200
TZNAME:CEST
DTSTART:20260329T010000
END:DAYLIGHT
BEGIN:STANDARD
TZOFFSETFROM:+0200
TZOFFSETTO:+0100
TZNAME:CET
DTSTART:20261025T010000
END:STANDARD
BEGIN:DAYLIGHT
TZOFFSETFROM:+0100
TZOFFSETTO:+0200
TZNAME:CEST
DTSTART:20270328T010000
END:DAYLIGHT
BEGIN:STANDARD
TZOFFSETFROM:+0200
TZOFFSETTO:+0100
TZNAME:CET
DTSTART:20271031T010000
END:STANDARD
END:VTIMEZONE
BEGIN:VEVENT
DTSTART;TZID=Europe/Berlin:20260422T160000
DTEND;TZID=Europe/Berlin:20260422T180000
DTSTAMP:20260422T100127
CREATED:20251120T101750Z
LAST-MODIFIED:20260223T122825Z
UID:3508-1776873600-1776880800@www.wildnis-fuer-kinder.de
SUMMARY:Offener Wildnistreff Langendreer
DESCRIPTION:Ort: „Wildnis für Kinder“ Langendreer\, Ovelackerstr. / Ecke Hasselbrink\, 44892 Bochum\nZeit: 22.04.2026\, 16–18 Uhr\n \n\nJeden Mittwoch-Nachmittag bis zum Sommer ist ein*e Wildnispädagog*in auf eurer Wildnisfläche in Bochum-Langendreer. Wenn du in der Zeit zwischen 16 und 18 Uhr vorbeischaust: wir freuen uns auf dich und haben bestimmt eine Idee\, was du für dich oder mit anderen erkunden könntest. \nDu musst übrigens nicht pünktlich um 16 Uhr da sein: Komm\, wann Du möchtest. \nKostenfrei. Keine Anmeldung. \nEltern sind herzlich willkommen\, wenn sie sich über das Projekt „Wildnis für Kinder“ informieren möchten oder Ideen mit einbringen wollen. \n  \nBei den offenen Wildnistreffs liegt die Aufsichtspflicht weiterhin bei den Eltern. Bei Sturm\, Starkregen etc. findet der Treff nicht statt. \n  \n  \nDas bundesweite Pilotprojekt „Wildnis für Kinder“ wird gefördert durch den Bochum Fonds. \n   \nVielen Dank an den Bochum Fonds\, an die Stadt Bochum und an die Stadt Herne! \n 
URL:https://www.wildnis-fuer-kinder.de/event/offener-wildnistreff-langendreer-22-april/
LOCATION:Wildnis für Kinder Langendreer\, Ovelackerstr. / Ecke Hasselbrink\, Bochum\, 44892
CATEGORIES:Offener Wildnistreff
ORGANIZER;CN="Biologische Station %C3%96stliches Ruhrgebiet":MAILTO:info@biostation-ruhr-ost.de
END:VEVENT
BEGIN:VEVENT
DTSTART;TZID=Europe/Berlin:20260423T150000
DTEND;TZID=Europe/Berlin:20260423T170000
DTSTAMP:20260422T100127
CREATED:20251113T123144Z
LAST-MODIFIED:20260223T123133Z
UID:3355-1776956400-1776963600@www.wildnis-fuer-kinder.de
SUMMARY:Offener Wildnistreff Hustadt
DESCRIPTION:Ort: „Wildnis für Kinder“ Hustadt\, Grünanlage auf Höhe „Am Hustadtring 7\, 44801 Bochum“\nZeit: 23.04.2026\, 15–17 Uhr\n \n\nJeden Mittwochnachmittag bis zum Sommer ist ein*e Wildnispädagog*in auf eurer Wildnisfläche in Bochum-Hustadt. Wenn du in der Zeit zwischen 15 und 17 Uhr vorbeischaust: wir freuen uns auf dich und haben bestimmt eine Idee\, was du für dich oder mit anderen erkunden könntest. \nDu musst übrigens nicht pünktlich um 15 Uhr da sein: Komm\, wann Du möchtest. \nKostenfrei. Keine Anmeldung. \nEltern sind herzlich willkommen\, wenn sie sich über das Projekt „Wildnis für Kinder“ informieren möchten oder Ideen mit einbringen wollen. \n  \nBei den offenen Wildnistreffs liegt die Aufsichtspflicht weiterhin bei den Eltern. \n  \n  \nDas bundesweite Pilotprojekt „Wildnis für Kinder“ wird gefördert durch den Bochum Fonds. \n   \nVielen Dank an den Bochum Fonds\, an die Stadt Bochum und an die Stadt Herne! \n 
URL:https://www.wildnis-fuer-kinder.de/event/offener-wildnistreff-hustadt-23-april/
LOCATION:Wildnis für Kinder Hustadt\, Am Hustadtring 7\, Bochum\, 44801
CATEGORIES:Offener Wildnistreff
ORGANIZER;CN="Biologische Station %C3%96stliches Ruhrgebiet":MAILTO:info@biostation-ruhr-ost.de
END:VEVENT
BEGIN:VEVENT
DTSTART;TZID=Europe/Berlin:20260423T153000
DTEND;TZID=Europe/Berlin:20260423T173000
DTSTAMP:20260422T100127
CREATED:20260223T113152Z
LAST-MODIFIED:20260223T115039Z
UID:3772-1776958200-1776965400@www.wildnis-fuer-kinder.de
SUMMARY:Offener Wildnistreff Hiltrop
DESCRIPTION:Ort: „Wildnis für Kinder Hiltrop“\, Hiltroper Landwehr\, zwischen Haus Nr. 19 und 21\, 44805 Bochum\nZeit: 23.04.2026\, 15:30–17:30 Uhr\n \n\nJeden Donnerstagnachmittag bis zum Sommer ist ein*e Wildnispädagog*in auf eurer Wildnisfläche in Bochum-Hiltrop. Wenn du in der Zeit zwischen 15:30 und 17:30 Uhr vorbeischaust: wir freuen uns auf dich und haben bestimmt eine Idee\, was du für dich oder mit anderen erkunden könntest. \nDu musst übrigens nicht pünktlich um 15:30 Uhr da sein: Komm\, wann Du möchtest. \nKostenfrei. Keine Anmeldung. \nEltern sind herzlich willkommen\, wenn sie sich über das Projekt „Wildnis für Kinder“ informieren möchten oder Ideen mit einbringen wollen. \n  \nBei den offenen Wildnistreffs liegt die Aufsichtspflicht weiterhin bei den Eltern. Bei Sturm\, Starkregen etc. findet der Treff nicht statt. \n  \n  \nDas bundesweite Pilotprojekt „Wildnis für Kinder“ wird gefördert durch den Bochum Fonds. \n   \nVielen Dank an den Bochum Fonds\, an die Stadt Bochum und an die Stadt Herne! \n 
URL:https://www.wildnis-fuer-kinder.de/event/offener-wildnistreff-hiltrop-5/
LOCATION:Wildnis für Kinder Hiltrop\, Hiltroper Landwehr 19\, Bochum\, 44805
CATEGORIES:Offener Wildnistreff
ORGANIZER;CN="Biologische Station %C3%96stliches Ruhrgebiet":MAILTO:info@biostation-ruhr-ost.de
END:VEVENT
BEGIN:VEVENT
DTSTART;TZID=Europe/Berlin:20260424T153000
DTEND;TZID=Europe/Berlin:20260424T173000
DTSTAMP:20260422T100127
CREATED:20251120T120416Z
LAST-MODIFIED:20260223T122147Z
UID:3560-1777044600-1777051800@www.wildnis-fuer-kinder.de
SUMMARY:Offener Wildnistreff Herne Mitte
DESCRIPTION:Ort: „Wildnis für Kinder Herne Mitte“\, Grünanlage am Juri-Gerus-Weg 11\, 44623 Herne\nZeit: 24.04.2026\, 15:30–17:30 Uhr\n \n\nJeden Freitagnachmittag bis zum Sommer ist ein*e Wildnispädagog*in auf eurer Wildnisfläche in Herne-Mitte. Wenn du in der Zeit zwischen 15:30 und 17:30 Uhr vorbeischaust: wir freuen uns auf dich und haben bestimmt eine Idee\, was du für dich oder mit anderen erkunden könntest. \nDu musst übrigens nicht pünktlich um 15:30 Uhr da sein: Komm\, wann Du möchtest. \nKostenfrei. Keine Anmeldung. \nEltern sind herzlich willkommen\, wenn sie sich über das Projekt „Wildnis für Kinder“ informieren möchten oder Ideen mit einbringen wollen. \n  \nBei den offenen Wildnistreffs liegt die Aufsichtspflicht weiterhin bei den Eltern. Bei Sturm\, Starkregen etc. findet der Treff nicht statt. \n  \n  \nWildnis für Kinder wird gefördert von \n   \nVielen Dank! \n 
URL:https://www.wildnis-fuer-kinder.de/event/offener-wildnistreff-herne-mitte-24-april/
LOCATION:Wildnis für Kinder Herne Mitte/Beiengelände\, Juri-Gerus-Weg 11\, Herne\, 44623\, Germany
CATEGORIES:Offener Wildnistreff
ORGANIZER;CN="Biologische Station %C3%96stliches Ruhrgebiet":MAILTO:info@biostation-ruhr-ost.de
END:VEVENT
BEGIN:VEVENT
DTSTART;TZID=Europe/Berlin:20260424T160000
DTEND;TZID=Europe/Berlin:20260424T180000
DTSTAMP:20260422T100127
CREATED:20251120T124550Z
LAST-MODIFIED:20260223T122610Z
UID:3598-1777046400-1777053600@www.wildnis-fuer-kinder.de
SUMMARY:Offener Wildnistreff Bochum Mitte
DESCRIPTION:Ort: „Wildnis für Kinder Bochum Mitte“\, Parkanlage Ecke Herner Straße / Vierhausstraße\, 44807 Bochum\nZeit: 24.04.2026\, 16–18 Uhr\n \n\nJeden Freitag-Nachmittag bis zum Sommer ist ein*e Wildnispädagog*in auf eurer Wildnisfläche in Bochum-Mitte. Wenn du in der Zeit zwischen 16 und 18 Uhr vorbeischaust: wir freuen uns auf dich und haben bestimmt eine Idee\, was du für dich oder mit anderen erkunden könntest. \nDu musst übrigens nicht pünktlich um 16 Uhr da sein: Komm\, wann Du möchtest. \nKostenfrei. Keine Anmeldung. \nEltern sind herzlich willkommen\, wenn sie sich über das Projekt „Wildnis für Kinder“ informieren möchten oder Ideen mit einbringen wollen. \n  \nBei den offenen Wildnistreffs liegt die Aufsichtspflicht weiterhin bei den Eltern. Bei Sturm\, Starkregen etc. findet der Treff nicht statt. \n  \n  \nDas bundesweite Pilotprojekt „Wildnis für Kinder“ wird gefördert durch den Bochum Fonds. \n   \nVielen Dank an den Bochum Fonds\, an die Stadt Bochum und an die Stadt Herne! \n 
URL:https://www.wildnis-fuer-kinder.de/event/offener-wildnistreff-bochum-mitte-24-april/
LOCATION:Wildnis für Kinder Bochum Mitte\, "Wildnis für Kinder-Bochum Mitte"\, Bochum\, 44807
CATEGORIES:Offener Wildnistreff
ORGANIZER;CN="Biologische Station %C3%96stliches Ruhrgebiet":MAILTO:info@biostation-ruhr-ost.de
END:VEVENT
BEGIN:VEVENT
DTSTART;TZID=Europe/Berlin:20260427T153000
DTEND;TZID=Europe/Berlin:20260427T173000
DTSTAMP:20260422T100127
CREATED:20251120T095317Z
LAST-MODIFIED:20260223T122923Z
UID:3479-1777303800-1777311000@www.wildnis-fuer-kinder.de
SUMMARY:Offener Wildnistreff Westenfeld
DESCRIPTION:Ort: „Wildnis für Kinder“ Westenfeld\, Parkplatz Sportplatz „Auf dem Esch“\, Bochum-Westenfeld\nZeit: 27.04.2026\, 15:30–17:30 Uhr\n \n\nJeden Montag-Nachmittag bis zum Sommer ist ein*e Wildnispädagog*in auf eurer Wildnisfläche in Bochum-Westenfeld. Wenn du in der Zeit zwischen 15.30 und 17.30 Uhr vorbeischaust: wir freuen uns auf dich und haben bestimmt eine Idee\, was du für dich oder mit anderen erkunden könntest. \nDu musst übrigens nicht pünktlich um 15.30 Uhr da sein: Komm\, wann Du möchtest. \nKostenfrei. Keine Anmeldung. \nEltern sind herzlich willkommen\, wenn sie sich über das Projekt „Wildnis für Kinder“ informieren möchten oder Ideen mit einbringen wollen. \n  \nBei den offenen Wildnistreffs liegt die Aufsichtspflicht weiterhin bei den Eltern. Bei Sturm\, Starkregen etc. findet der Treff nicht statt. \n  \n  \nDas bundesweite Pilotprojekt „Wildnis für Kinder“ wird gefördert durch den Bochum Fonds. \n   \nVielen Dank an den Bochum Fonds\, an die Stadt Bochum und an die Stadt Herne! \n 
URL:https://www.wildnis-fuer-kinder.de/event/offener-wildnistreff-westenfeld-27-april/
LOCATION:Wildnis für Kinder Westenfeld\, "Wildnis für Kinder" Westenfeld\, Wattenscheid-Höntrop\, Biologische Station Östliches Ruhrgebiet\, Bochum\, Germany
CATEGORIES:Offener Wildnistreff
ORGANIZER;CN="Biologische Station %C3%96stliches Ruhrgebiet":MAILTO:info@biostation-ruhr-ost.de
END:VEVENT
BEGIN:VEVENT
DTSTART;TZID=Europe/Berlin:20260428T153000
DTEND;TZID=Europe/Berlin:20260428T173000
DTSTAMP:20260422T100127
CREATED:20251113T112508Z
LAST-MODIFIED:20260223T123411Z
UID:3280-1777390200-1777397400@www.wildnis-fuer-kinder.de
SUMMARY:Offener Wildnistreff Dahlhausen
DESCRIPTION:Ort: „Wildnis für Kinder“ Dahlhausen\, Grünanlage auf Höhe „Am Ruhrort 14\, 44879 Bochum“\nZeit: 28.04.2026\, 15.30–17.30 Uhr\n \n\nJeden Dienstagnachmittag bis zum Sommer ist ein*e Wildnispädagog*in auf eurer Wildnisfläche in Bochum-Dahlhausen. Wenn du in der Zeit zwischen 15.30 und 17.30 Uhr vorbeischaust: wir freuen uns auf dich und haben bestimmt eine Idee\, was du für dich oder mit anderen erkunden könntest. \nDu musst übrigens nicht pünktlich um 15.30 Uhr da sein: Komm\, wann Du möchtest. \nKostenfrei. Keine Anmeldung. \nEltern sind herzlich willkommen\, wenn sie sich über das Projekt „Wildnis für Kinder“ informieren möchten oder Ideen mit einbringen wollen. \n  \nBei den offenen Wildnistreffs liegt die Aufsichtspflicht weiterhin bei den Eltern. Bei Sturm\, Starkregen etc. findet der Treff nicht statt. \n  \n  \nDas bundesweite Pilotprojekt „Wildnis für Kinder“ wird gefördert durch den Bochum Fonds. \n   \nVielen Dank an den Bochum Fonds\, an die Stadt Bochum und an die Stadt Herne! \n 
URL:https://www.wildnis-fuer-kinder.de/event/offener-wildnistreff-dahlhausen-28-april/
LOCATION:Wildnis für Kinder Dahlhausen\, Am Ruhrort 14\, Bochum\, 44879
CATEGORIES:Offener Wildnistreff
ORGANIZER;CN="Biologische Station %C3%96stliches Ruhrgebiet":MAILTO:info@biostation-ruhr-ost.de
END:VEVENT
BEGIN:VEVENT
DTSTART;TZID=Europe/Berlin:20260428T153000
DTEND;TZID=Europe/Berlin:20260428T173000
DTSTAMP:20260422T100127
CREATED:20251113T114354Z
LAST-MODIFIED:20260223T123305Z
UID:3309-1777390200-1777397400@www.wildnis-fuer-kinder.de
SUMMARY:Offener Wildnistreff Herne - Holsterhausen
DESCRIPTION:Ort: „Wildnis für Kinder Herne Holsterhausen“\, Dorstener Straße\, 44625 Herne; Zugang Hinterhof Nr.151\nZeit: 28.04.2026\, 15:30–17:30 Uhr\n \n\nJeden Dienstagnachmittag bis zum Sommer ist ein*e Wildnispädagog*in auf eurer Wildnisfläche in Holsterhausen auf der Fläche „Dorstener Straße“. Wenn du in der Zeit zwischen 15:30 und 17:30 Uhr vorbeischaust: wir freuen uns auf dich und haben bestimmt eine Idee\, was du für dich oder mit anderen erkunden könntest. \nDu musst übrigens nicht pünktlich um 15:30 Uhr da sein: Komm\, wann Du möchtest. \nKostenfrei. Keine Anmeldung. \nEltern sind herzlich willkommen\, wenn sie sich über das Projekt „Wildnis für Kinder“ informieren möchten oder Ideen mit einbringen wollen. \n  \nBei den offenen Wildnistreffs liegt die Aufsichtspflicht weiterhin bei den Eltern. Bei Sturm\, Starkregen etc. findet der Treff nicht statt. \n  \n  \n  \n \nVielen Dank  an die Stadt Bochum und an die Stadt Herne! \n 
URL:https://www.wildnis-fuer-kinder.de/event/offener-wildnistreff-herne-holsterhausen-24-maerz/
LOCATION:Wildnis für Kinder Dorstener Straße\, Dorstener Straße 139\, Hinterhof\, Herne\, 44625
CATEGORIES:Offener Wildnistreff
ORGANIZER;CN="Biologische Station %C3%96stliches Ruhrgebiet":MAILTO:info@biostation-ruhr-ost.de
END:VEVENT
BEGIN:VEVENT
DTSTART;TZID=Europe/Berlin:20260429T160000
DTEND;TZID=Europe/Berlin:20260429T180000
DTSTAMP:20260422T100127
CREATED:20251120T102248Z
LAST-MODIFIED:20260223T122805Z
UID:3506-1777478400-1777485600@www.wildnis-fuer-kinder.de
SUMMARY:Offener Wildnistreff Langendreer
DESCRIPTION:Ort: „Wildnis für Kinder“ Langendreer\, Ovelackerstr. / Ecke Hasselbrink\, 44892 Bochum\nZeit: 29.04.2026\, 16–18 Uhr\n \n\nJeden Mittwoch-Nachmittag biszum Sommer ist ein*e Wildnispädagog*in auf eurer Wildnisfläche in Bochum-Langendreer. Wenn du in der Zeit zwischen 16 und 18 Uhr vorbeischaust: wir freuen uns auf dich und haben bestimmt eine Idee\, was du für dich oder mit anderen erkunden könntest. \nDu musst übrigens nicht pünktlich um 16 Uhr da sein: Komm\, wann Du möchtest. \nKostenfrei. Keine Anmeldung. \nEltern sind herzlich willkommen\, wenn sie sich über das Projekt „Wildnis für Kinder“ informieren möchten oder Ideen mit einbringen wollen. \n  \nBei den offenen Wildnistreffs liegt die Aufsichtspflicht weiterhin bei den Eltern. Bei Sturm\, Starkregen etc. findet der Treff nicht statt. \n  \n  \nDas bundesweite Pilotprojekt „Wildnis für Kinder“ wird gefördert durch den Bochum Fonds. \n   \nVielen Dank an den Bochum Fonds\, an die Stadt Bochum und an die Stadt Herne! \n 
URL:https://www.wildnis-fuer-kinder.de/event/offener-wildnistreff-langendreer-29-april/
LOCATION:Wildnis für Kinder Langendreer\, Ovelackerstr. / Ecke Hasselbrink\, Bochum\, 44892
CATEGORIES:Offener Wildnistreff
ORGANIZER;CN="Biologische Station %C3%96stliches Ruhrgebiet":MAILTO:info@biostation-ruhr-ost.de
END:VEVENT
BEGIN:VEVENT
DTSTART;TZID=Europe/Berlin:20260430T150000
DTEND;TZID=Europe/Berlin:20260430T170000
DTSTAMP:20260422T100127
CREATED:20251113T123349Z
LAST-MODIFIED:20260223T123125Z
UID:3354-1777561200-1777568400@www.wildnis-fuer-kinder.de
SUMMARY:Offener Wildnistreff Hustadt
DESCRIPTION:Ort: „Wildnis für Kinder“ Hustadt\, Grünanlage auf Höhe „Am Hustadtring 7\, 44801 Bochum“\nZeit: 30.04.2026\, 15–17 Uhr\n \n\nJeden Mittwochnachmittag bis zum Sommer ist ein*e Wildnispädagog*in auf eurer Wildnisfläche in Bochum-Hustadt. Wenn du in der Zeit zwischen 15 und 17 Uhr vorbeischaust: wir freuen uns auf dich und haben bestimmt eine Idee\, was du für dich oder mit anderen erkunden könntest. \nDu musst übrigens nicht pünktlich um 15 Uhr da sein: Komm\, wann Du möchtest. \nKostenfrei. Keine Anmeldung. \nEltern sind herzlich willkommen\, wenn sie sich über das Projekt „Wildnis für Kinder“ informieren möchten oder Ideen mit einbringen wollen. \n  \nBei den offenen Wildnistreffs liegt die Aufsichtspflicht weiterhin bei den Eltern. \n  \n  \nDas bundesweite Pilotprojekt „Wildnis für Kinder“ wird gefördert durch den Bochum Fonds. \n   \nVielen Dank an den Bochum Fonds\, an die Stadt Bochum und an die Stadt Herne! \n 
URL:https://www.wildnis-fuer-kinder.de/event/offener-wildnistreff-hustadt-30-april/
LOCATION:Wildnis für Kinder Hustadt\, Am Hustadtring 7\, Bochum\, 44801
CATEGORIES:Offener Wildnistreff
ORGANIZER;CN="Biologische Station %C3%96stliches Ruhrgebiet":MAILTO:info@biostation-ruhr-ost.de
END:VEVENT
BEGIN:VEVENT
DTSTART;TZID=Europe/Berlin:20260430T153000
DTEND;TZID=Europe/Berlin:20260430T173000
DTSTAMP:20260422T100127
CREATED:20260223T113244Z
LAST-MODIFIED:20260223T115111Z
UID:3771-1777563000-1777570200@www.wildnis-fuer-kinder.de
SUMMARY:Offener Wildnistreff Hiltrop
DESCRIPTION:Ort: „Wildnis für Kinder Hiltrop“\, Hiltroper Landwehr\, zwischen Haus Nr. 19 und 21\, 44805 Bochum\nZeit: 30.04.2026\, 15:30–17:30 Uhr\n \n\nJeden Donnerstagnachmittag bis zum Sommer ist ein*e Wildnispädagog*in auf eurer Wildnisfläche in Bochum-Hiltrop. Wenn du in der Zeit zwischen 15:30 und 17:30 Uhr vorbeischaust: wir freuen uns auf dich und haben bestimmt eine Idee\, was du für dich oder mit anderen erkunden könntest. \nDu musst übrigens nicht pünktlich um 15:30 Uhr da sein: Komm\, wann Du möchtest. \nKostenfrei. Keine Anmeldung. \nEltern sind herzlich willkommen\, wenn sie sich über das Projekt „Wildnis für Kinder“ informieren möchten oder Ideen mit einbringen wollen. \n  \nBei den offenen Wildnistreffs liegt die Aufsichtspflicht weiterhin bei den Eltern. Bei Sturm\, Starkregen etc. findet der Treff nicht statt. \n  \n  \nDas bundesweite Pilotprojekt „Wildnis für Kinder“ wird gefördert durch den Bochum Fonds. \n   \nVielen Dank an den Bochum Fonds\, an die Stadt Bochum und an die Stadt Herne! \n 
URL:https://www.wildnis-fuer-kinder.de/event/offener-wildnistreff-hiltrop-6/
LOCATION:Wildnis für Kinder Hiltrop\, Hiltroper Landwehr 19\, Bochum\, 44805
CATEGORIES:Offener Wildnistreff
ORGANIZER;CN="Biologische Station %C3%96stliches Ruhrgebiet":MAILTO:info@biostation-ruhr-ost.de
END:VEVENT
END:VCALENDAR